Name | Last modified | Size | Description | |
---|---|---|---|---|
Parent Directory | - | |||
buildbin-out.txt | 17-Jul-2024 00:40 | 1.1K | ||
buildbin-summary.dcf | 17-Jul-2024 00:40 | 539 | ||
buildsrc-out.txt | 17-Jul-2024 00:40 | 897 | ||
buildsrc-summary.dcf | 17-Jul-2024 00:40 | 471 | ||
checksrc-out.txt | 17-Jul-2024 00:40 | 30K | ||
checksrc-summary.dcf | 17-Jul-2024 00:40 | 472 | ||
install-out.txt | 17-Jul-2024 00:40 | 1.0K | ||
install-summary.dcf | 17-Jul-2024 00:40 | 280 | ||