############################################################################## ############################################################################## ### ### Running command: ### ### C:\cygwin\bin\curl.exe -O http://155.52.207.166/BBS/3.16/bioc/src/contrib/CRISPRseek_1.37.2.tar.gz && rm -rf CRISPRseek.buildbin-libdir && mkdir CRISPRseek.buildbin-libdir && F:\biocbuild\bbs-3.16-bioc\R\bin\R.exe CMD INSTALL --merge-multiarch --build --library=CRISPRseek.buildbin-libdir CRISPRseek_1.37.2.tar.gz && F:\biocbuild\bbs-3.16-bioc\R\bin\R.exe CMD INSTALL CRISPRseek_1.37.2.zip && rm CRISPRseek_1.37.2.tar.gz CRISPRseek_1.37.2.zip ### ############################################################################## ############################################################################## % Total % Received % Xferd Average Speed Time Time Time Current Dload Upload Total Spent Left Speed 0 0 0 0 0 0 0 0 --:--:-- --:--:-- --:--:-- 0 33 10.5M 33 3592k 0 0 4770k 0 0:00:02 --:--:-- 0:00:02 4770k 88 10.5M 88 9594k 0 0 5482k 0 0:00:01 0:00:01 --:--:-- 5482k 100 10.5M 100 10.5M 0 0 5248k 0 0:00:02 0:00:02 --:--:-- 5250k only one architecture so ignoring '--merge-multiarch' * installing *source* package 'CRISPRseek' ... ** using staged installation ** R ** inst ** byte-compile and prepare package for lazy loading ** help *** installing help indices ** building package indices ** installing vignettes ** testing if installed package can be loaded from temporary location ** testing if installed package can be loaded from final location ** testing if installed package keeps a record of temporary installation path * MD5 sums packaged installation of 'CRISPRseek' as CRISPRseek_1.37.2.zip * DONE (CRISPRseek) * installing to library 'F:/biocbuild/bbs-3.16-bioc/R/library' package 'CRISPRseek' successfully unpacked and MD5 sums checked