Index of /checkResults/devel/bioc-LATEST/CRISPRseek/raw-results/palomino4

[ICO]NameLast modifiedSizeDescription

[DIR]Parent Directory  -  
[   ]checksrc-summary.dcf10-Aug-2022 00:06 463  
[   ]buildsrc-summary.dcf10-Aug-2022 00:06 465  
[   ]buildbin-summary.dcf10-Aug-2022 00:06 551  
[   ]install-summary.dcf10-Aug-2022 00:06 655  
[TXT]buildsrc-out.txt10-Aug-2022 00:06 891  
[TXT]buildbin-out.txt10-Aug-2022 00:06 1.2K 
[TXT]install-out.txt10-Aug-2022 00:06 1.9K 
[TXT]checksrc-out.txt10-Aug-2022 00:06 7.0K