Name | Last modified | Size | Description | |
---|---|---|---|---|
Parent Directory | - | |||
buildbin-out.txt | 28-Jul-2024 00:40 | 1.2K | ||
buildbin-summary.dcf | 28-Jul-2024 00:40 | 548 | ||
checksrc-summary.dcf | 28-Jul-2024 00:40 | 457 | ||
checksrc-out.txt | 28-Jul-2024 00:40 | 30K | ||
buildsrc-summary.dcf | 28-Jul-2024 00:40 | 437 | ||
buildsrc-out.txt | 28-Jul-2024 00:40 | 868 | ||
install-summary.dcf | 28-Jul-2024 00:40 | 275 | ||
install-out.txt | 28-Jul-2024 00:40 | 1.0K | ||