Index of /checkResults/devel/bioc-LATEST/CRISPRseek/raw-results/lconway

[ICO]NameLast modifiedSizeDescription

[DIR]Parent Directory  -  
[TXT]buildbin-out.txt01-Jul-2022 00:07 1.2K 
[   ]buildbin-summary.dcf01-Jul-2022 00:07 548  
[TXT]buildsrc-out.txt01-Jul-2022 00:07 868  
[   ]buildsrc-summary.dcf01-Jul-2022 00:07 437  
[TXT]checksrc-out.txt01-Jul-2022 00:07 7.0K 
[   ]checksrc-summary.dcf01-Jul-2022 00:07 457  
[TXT]install-out.txt01-Jul-2022 00:07 1.0K 
[   ]install-summary.dcf01-Jul-2022 00:07 275