Name | Last modified | Size | Description | |
---|---|---|---|---|
Parent Directory | - | |||
buildsrc-summary.dcf | 09-Jul-2024 00:44 | 316 | ||
buildsrc-out.txt | 09-Jul-2024 00:44 | 1.0K | ||
install-summary.dcf | 06-Jul-2024 00:44 | 244 | ||
install-out.txt | 06-Jul-2024 00:44 | 604 | ||
checksrc-out.txt | 05-Jul-2024 00:44 | 11K | ||
checksrc-summary.dcf | 05-Jul-2024 00:44 | 396 | ||