Name | Last modified | Size | Description | |
---|---|---|---|---|
Parent Directory | - | |||
install-out.txt | 12-Jun-2024 04:42 | 1.0K | ||
install-summary.dcf | 12-Jun-2024 04:42 | 264 | ||
buildsrc-out.txt | 12-Jun-2024 04:42 | 870 | ||
buildsrc-summary.dcf | 12-Jun-2024 04:42 | 420 | ||
checksrc-summary.dcf | 12-Jun-2024 04:42 | 435 | ||
checksrc-out.txt | 12-Jun-2024 04:42 | 10K | ||
buildbin-out.txt | 12-Jun-2024 04:42 | 1.2K | ||
buildbin-summary.dcf | 12-Jun-2024 04:42 | 515 | ||