Name | Last modified | Size | Description | |
---|---|---|---|---|
Parent Directory | - | |||
buildbin-out.txt | 21-May-2024 00:37 | 1.5K | ||
buildbin-summary.dcf | 21-May-2024 00:37 | 531 | ||
buildsrc-out.txt | 21-May-2024 00:37 | 816 | ||
buildsrc-summary.dcf | 21-May-2024 00:37 | 428 | ||
checksrc-out.txt | 21-May-2024 00:37 | 6.4K | ||
checksrc-summary.dcf | 21-May-2024 00:37 | 451 | ||
install-out.txt | 21-May-2024 00:37 | 1.3K | ||
install-summary.dcf | 21-May-2024 00:37 | 270 | ||