Index of /checkResults/devel/bioc-LATEST/CNVrd2/raw-results

[ICO]NameLast modifiedSizeDescription

[DIR]Parent Directory  -  
[DIR]palomino4/04-Oct-2023 00:37 -  
[DIR]nebbiolo2/04-Oct-2023 00:36 -  
[DIR]lconway/04-Oct-2023 00:39 -  
[DIR]kunpeng2/04-Oct-2023 00:40 -  
[   ]info.dcf04-Oct-2023 00:40 272