Back to Multiple platform build/check report for BioC 3.15
AB[C]DEFGHIJKLMNOPQRSTUVWXYZ

This page was generated on 2022-01-28 11:07:29 -0500 (Fri, 28 Jan 2022).

HostnameOSArch (*)R versionInstalled pkgs
nebbiolo1Linux (Ubuntu 20.04.4 LTS)x86_64R Under development (unstable) (2022-01-05 r81451) -- "Unsuffered Consequences" 4167
riesling1Windows Server 2019 Standardx64R Under development (unstable) (2021-11-21 r81221) -- "Unsuffered Consequences" 4062
palomino3Windows Server 2022 Datacenterx64R Under development (unstable) (2021-12-21 r81400 ucrt) -- "Unsuffered Consequences" 4004
merida1macOS 10.14.6 Mojavex86_64R Under development (unstable) (2022-01-05 r81451) -- "Unsuffered Consequences" 4121
Click on any hostname to see more info about the system (e.g. compilers)      (*) as reported by 'uname -p', except on Windows and Mac OS X

BUILD BIN results for CNViz on riesling1


To the developers/maintainers of the CNViz package:
- Please allow up to 24 hours (and sometimes 48 hours) for your latest push to git@git.bioconductor.org:packages/CNViz.git to
reflect on this report. See How and When does the builder pull? When will my changes propagate? here for more information.
- Make sure to use the following settings in order to reproduce any error or warning you see on this page.

raw results

Package 356/2077HostnameOS / ArchINSTALLBUILDCHECKBUILD BIN
CNViz 1.3.1  (landing page)
Rebecca Greenblatt
Snapshot Date: 2022-01-27 13:55:17 -0500 (Thu, 27 Jan 2022)
git_url: https://git.bioconductor.org/packages/CNViz
git_branch: master
git_last_commit: 24589a9
git_last_commit_date: 2022-01-26 16:00:40 -0500 (Wed, 26 Jan 2022)
nebbiolo1Linux (Ubuntu 20.04.4 LTS) / x86_64  OK    OK    OK  YES
riesling1Windows Server 2019 Standard / x64  OK    OK    OK    OK  
palomino3Windows Server 2022 Datacenter / x64  OK    OK    OK    OK  NO, package depends on 'karyoploteR' which is not available
merida1macOS 10.14.6 Mojave / x86_64  OK    OK    OK    OK  YES

Summary

Package: CNViz
Version: 1.3.1
Command: rm -rf CNViz.buildbin-libdir && mkdir CNViz.buildbin-libdir && D:\biocbuild\bbs-3.15-bioc\R\bin\R.exe CMD INSTALL --build --library=CNViz.buildbin-libdir CNViz_1.3.1.tar.gz
StartedAt: 2022-01-27 20:52:01 -0500 (Thu, 27 Jan 2022)
EndedAt: 2022-01-27 20:53:11 -0500 (Thu, 27 Jan 2022)
EllapsedTime: 70.4 seconds
RetCode: 0
Status:   OK  
PackageFile: CNViz_1.3.1.zip
PackageFileSize: 195.7 KiB

Command output

##############################################################################
##############################################################################
###
### Running command:
###
###   rm -rf CNViz.buildbin-libdir && mkdir CNViz.buildbin-libdir && D:\biocbuild\bbs-3.15-bioc\R\bin\R.exe CMD INSTALL --build --library=CNViz.buildbin-libdir CNViz_1.3.1.tar.gz
###
##############################################################################
##############################################################################


* installing *source* package 'CNViz' ...
** using staged installation
** R
** data
** inst
** byte-compile and prepare package for lazy loading
** help
*** installing help indices
  converting help for package 'CNViz'
    finding HTML links ... done
    all_tcga2018_data                       html  
    cbio_studies                            html  
    cytoband_data                           html  
    gene_data                               html  
    launchCNViz                             html  
    meta_data                               html  
    probe_data                              html  
    segment_data                            html  
    variant_data                            html  
** building package indices
** installing vignettes
** testing if installed package can be loaded from temporary location
** testing if installed package can be loaded from final location
** testing if installed package keeps a record of temporary installation path
* MD5 sums
packaged installation of 'CNViz' as CNViz_1.3.1.zip
* DONE (CNViz)