Index of /checkResults/devel/bioc-LATEST/CNVfilteR/raw-results

[ICO]NameLast modifiedSizeDescription

[DIR]Parent Directory  -  
[   ]info.dcf06-Dec-2022 01:09 285  
[DIR]merida1/06-Dec-2022 01:09 -  
[DIR]nebbiolo1/06-Dec-2022 01:05 -  
[DIR]palomino3/06-Dec-2022 01:07 -