Back to Multiple platform build/check report for BioC 3.14
AB[C]DEFGHIJKLMNOPQRSTUVWXYZ

This page was generated on 2021-10-22 12:04:21 -0400 (Fri, 22 Oct 2021).

BUILD results for CNVRanger on riesling1

To the developers/maintainers of the CNVRanger package:
- Please allow up to 24 hours (and sometimes 48 hours) for your latest push to git@git.bioconductor.org:packages/CNVRanger.git to
reflect on this report. See How and When does the builder pull? When will my changes propagate? here for more information.
- Make sure to use the following settings in order to reproduce any error or warning you see on this page.

raw results

Package 358/2075HostnameOS / ArchINSTALLBUILDCHECKBUILD BIN
CNVRanger 1.9.0  (landing page)
Ludwig Geistlinger
Snapshot Date: 2021-10-21 14:50:08 -0400 (Thu, 21 Oct 2021)
git_url: https://git.bioconductor.org/packages/CNVRanger
git_branch: master
git_last_commit: ef39e51
git_last_commit_date: 2021-05-19 12:40:54 -0400 (Wed, 19 May 2021)
nebbiolo2Linux (Ubuntu 20.04.2 LTS) / x86_64  OK    OK    OK  UNNEEDED, same version is already published
riesling1Windows Server 2019 Standard / x64  OK    OK    OK    OK  NO, package depends on 'GDSArray' which is not available
merida1macOS 10.14.6 Mojave / x86_64  OK    OK    OK    OK  UNNEEDED, same version is already published

Summary

Package: CNVRanger
Version: 1.9.0
Command: chmod a+r CNVRanger -R && D:\biocbuild\bbs-3.14-bioc\R\bin\R.exe CMD build --keep-empty-dirs --no-resave-data CNVRanger
StartedAt: 2021-10-21 20:14:30 -0400 (Thu, 21 Oct 2021)
EndedAt: 2021-10-21 20:19:19 -0400 (Thu, 21 Oct 2021)
EllapsedTime: 289.1 seconds
RetCode: 0
Status:   OK  
PackageFile: CNVRanger_1.9.0.tar.gz
PackageFileSize: 1.822 MiB

Command output

##############################################################################
##############################################################################
###
### Running command:
###
###   chmod a+r CNVRanger -R && D:\biocbuild\bbs-3.14-bioc\R\bin\R.exe CMD build --keep-empty-dirs --no-resave-data CNVRanger
###
##############################################################################
##############################################################################


* checking for file 'CNVRanger/DESCRIPTION' ... OK
* preparing 'CNVRanger':
* checking DESCRIPTION meta-information ... OK
* installing the package to build vignettes
* creating vignettes ... OK
* checking for LF line-endings in source and make files and shell scripts
* checking for empty or unneeded directories
* building 'CNVRanger_1.9.0.tar.gz'