Back to Multiple platform build/check report for BioC 3.14
AB[C]DEFGHIJKLMNOPQRSTUVWXYZ

This page was generated on 2021-10-18 12:04:01 -0400 (Mon, 18 Oct 2021).

BUILD BIN results for CNVRanger on riesling1

To the developers/maintainers of the CNVRanger package:
- Please allow up to 24 hours (and sometimes 48 hours) for your latest push to git@git.bioconductor.org:packages/CNVRanger.git to
reflect on this report. See How and When does the builder pull? When will my changes propagate? here for more information.
- Make sure to use the following settings in order to reproduce any error or warning you see on this page.

raw results

Package 355/2060HostnameOS / ArchINSTALLBUILDCHECKBUILD BIN
CNVRanger 1.9.0  (landing page)
Ludwig Geistlinger
Snapshot Date: 2021-10-17 14:50:03 -0400 (Sun, 17 Oct 2021)
git_url: https://git.bioconductor.org/packages/CNVRanger
git_branch: master
git_last_commit: ef39e51
git_last_commit_date: 2021-05-19 12:40:54 -0400 (Wed, 19 May 2021)
nebbiolo2Linux (Ubuntu 20.04.2 LTS) / x86_64  OK    OK    OK  UNNEEDED, same version is already published
riesling1Windows Server 2019 Standard / x64  OK    OK    OK    OK  NO, package depends on 'GDSArray' which is not available
merida1macOS 10.14.6 Mojave / x86_64  OK    OK    OK    OK  UNNEEDED, same version is already published

Summary

Package: CNVRanger
Version: 1.9.0
Command: rm -rf CNVRanger.buildbin-libdir && mkdir CNVRanger.buildbin-libdir && D:\biocbuild\bbs-3.14-bioc\R\bin\R.exe CMD INSTALL --merge-multiarch --build --library=CNVRanger.buildbin-libdir CNVRanger_1.9.0.tar.gz
StartedAt: 2021-10-18 04:45:25 -0400 (Mon, 18 Oct 2021)
EndedAt: 2021-10-18 04:49:24 -0400 (Mon, 18 Oct 2021)
EllapsedTime: 239.5 seconds
RetCode: 0
Status:   OK  
PackageFile: CNVRanger_1.9.0.zip
PackageFileSize: 1.89 MiB

Command output

##############################################################################
##############################################################################
###
### Running command:
###
###   rm -rf CNVRanger.buildbin-libdir && mkdir CNVRanger.buildbin-libdir && D:\biocbuild\bbs-3.14-bioc\R\bin\R.exe CMD INSTALL --merge-multiarch --build --library=CNVRanger.buildbin-libdir CNVRanger_1.9.0.tar.gz
###
##############################################################################
##############################################################################



install for i386

* installing *source* package 'CNVRanger' ...
** using staged installation
** R
** inst
** byte-compile and prepare package for lazy loading
** help
*** installing help indices
  converting help for package 'CNVRanger'
    finding HTML links ... done
    cnvEQTL                                 html  
    finding level-2 HTML links ... done

    cnvGWAS                                 html  
    cnvOncoPrint                            html  
    generateGDS                             html  
    importLrrBaf                            html  
    plotEQTL                                html  
    plotManhattan                           html  
    plotRecurrentRegions                    html  
    populationRanges                        html  
    setupCnvGWAS                            html  
** building package indices
** installing vignettes
** testing if installed package can be loaded from temporary location
** testing if installed package can be loaded from final location
** testing if installed package keeps a record of temporary installation path

install for x64

* installing *source* package 'CNVRanger' ...
** testing if installed package can be loaded
* MD5 sums
packaged installation of 'CNVRanger' as CNVRanger_1.9.0.zip
* DONE (CNVRanger)