Index of /checkResults/devel/bioc-LATEST/CNVPanelizer/raw-results/palomino4

[ICO]NameLast modifiedSizeDescription

[DIR]Parent Directory  -  
[TXT]buildbin-out.txt02-Jul-2022 00:05 1.2K 
[   ]buildbin-summary.dcf02-Jul-2022 00:05 561  
[TXT]buildsrc-out.txt02-Jul-2022 00:05 924  
[   ]buildsrc-summary.dcf02-Jul-2022 00:05 472  
[TXT]checksrc-out.txt02-Jul-2022 00:05 3.5K 
[   ]checksrc-summary.dcf02-Jul-2022 00:05 470  
[TXT]install-out.txt02-Jul-2022 00:05 1.9K 
[   ]install-summary.dcf02-Jul-2022 00:05 673