Index of /checkResults/devel/bioc-LATEST/CNVPanelizer/raw-results/palomino3
Name
Last modified
Size
Description
Parent Directory
-
buildsrc-out.txt
29-Mar-2024 00:37
958
buildsrc-summary.dcf
29-Mar-2024 00:37
382
install-out.txt
29-Mar-2024 00:37
635
install-summary.dcf
29-Mar-2024 00:37
280