Index of /checkResults/devel/bioc-LATEST/CNVPanelizer/raw-results/nebbiolo2

[ICO]NameLast modifiedSizeDescription

[DIR]Parent Directory  -  
[TXT]buildsrc-out.txt02-Jul-2022 00:04 889  
[   ]buildsrc-summary.dcf02-Jul-2022 00:04 432  
[TXT]checksrc-out.txt02-Jul-2022 00:04 3.5K 
[   ]checksrc-summary.dcf02-Jul-2022 00:04 444  
[TXT]install-out.txt02-Jul-2022 00:04 970  
[   ]install-summary.dcf02-Jul-2022 00:04 269