Index of /checkResults/devel/bioc-LATEST/CNVPanelizer/raw-results/nebbiolo1
Name
Last modified
Size
Description
Parent Directory
-
buildsrc-out.txt
29-Mar-2024 00:36
901
buildsrc-summary.dcf
29-Mar-2024 00:36
342
install-out.txt
29-Mar-2024 00:36
652
install-summary.dcf
29-Mar-2024 00:36
271