Index of /checkResults/devel/bioc-LATEST/CNVPanelizer/raw-results/lconway
Name
Last modified
Size
Description
Parent Directory
-
install-summary.dcf
29-Mar-2024 00:38
281
buildsrc-summary.dcf
29-Mar-2024 00:38
352
install-out.txt
29-Mar-2024 00:38
712
buildsrc-out.txt
29-Mar-2024 00:38
917