Index of /checkResults/devel/bioc-LATEST/CNVPanelizer/raw-results/lconway

[ICO]NameLast modifiedSizeDescription

[DIR]Parent Directory  -  
[TXT]buildbin-out.txt25-Jun-2022 00:07 1.2K 
[   ]buildbin-summary.dcf25-Jun-2022 00:07 560  
[TXT]buildsrc-out.txt25-Jun-2022 00:07 899  
[   ]buildsrc-summary.dcf25-Jun-2022 00:07 442  
[TXT]checksrc-out.txt25-Jun-2022 00:07 3.6K 
[   ]checksrc-summary.dcf25-Jun-2022 00:07 464  
[TXT]install-out.txt25-Jun-2022 00:07 1.0K 
[   ]install-summary.dcf25-Jun-2022 00:07 279