Back to Multiple platform build/check report for BioC 3.15
AB[C]DEFGHIJKLMNOPQRSTUVWXYZ

This page was generated on 2022-01-17 11:07:02 -0500 (Mon, 17 Jan 2022).

HostnameOSArch (*)R versionInstalled pkgs
nebbiolo1Linux (Ubuntu 20.04.4 LTS)x86_64R Under development (unstable) (2022-01-05 r81451) -- "Unsuffered Consequences" 4161
riesling1Windows Server 2019 Standardx64R Under development (unstable) (2021-11-21 r81221) -- "Unsuffered Consequences" 4056
palomino3Windows Server 2022 Datacenterx64R Under development (unstable) (2021-12-21 r81400 ucrt) -- "Unsuffered Consequences" 3998
merida1macOS 10.14.6 Mojavex86_64R Under development (unstable) (2022-01-05 r81451) -- "Unsuffered Consequences" 4115
Click on any hostname to see more info about the system (e.g. compilers)      (*) as reported by 'uname -p', except on Windows and Mac OS X

BUILD BIN results for CNVMetrics on riesling1


To the developers/maintainers of the CNVMetrics package:
- Please allow up to 24 hours (and sometimes 48 hours) for your latest push to git@git.bioconductor.org:packages/CNVMetrics.git to
reflect on this report. See How and When does the builder pull? When will my changes propagate? here for more information.
- Make sure to use the following settings in order to reproduce any error or warning you see on this page.

raw results

Package 357/2074HostnameOS / ArchINSTALLBUILDCHECKBUILD BIN
CNVMetrics 0.99.3  (landing page)
Astrid DeschĂȘnes
Snapshot Date: 2022-01-16 13:55:18 -0500 (Sun, 16 Jan 2022)
git_url: https://git.bioconductor.org/packages/CNVMetrics
git_branch: master
git_last_commit: 02e3123
git_last_commit_date: 2021-12-06 00:10:08 -0500 (Mon, 06 Dec 2021)
nebbiolo1Linux (Ubuntu 20.04.4 LTS) / x86_64  OK    OK    OK  UNNEEDED, same version is already published
riesling1Windows Server 2019 Standard / x64  OK    OK    OK    OK  
palomino3Windows Server 2022 Datacenter / x64  OK    OK    OK    OK  NO, package depends on 'GenomicRanges' which is not available
merida1macOS 10.14.6 Mojave / x86_64  OK    OK    OK    OK  UNNEEDED, same version is already published

Summary

Package: CNVMetrics
Version: 0.99.3
Command: rm -rf CNVMetrics.buildbin-libdir && mkdir CNVMetrics.buildbin-libdir && D:\biocbuild\bbs-3.15-bioc\R\bin\R.exe CMD INSTALL --build --library=CNVMetrics.buildbin-libdir CNVMetrics_0.99.3.tar.gz
StartedAt: 2022-01-16 20:52:10 -0500 (Sun, 16 Jan 2022)
EndedAt: 2022-01-16 20:53:16 -0500 (Sun, 16 Jan 2022)
EllapsedTime: 66.0 seconds
RetCode: 0
Status:   OK  
PackageFile: CNVMetrics_0.99.3.zip
PackageFileSize: 1.564 MiB

Command output

##############################################################################
##############################################################################
###
### Running command:
###
###   rm -rf CNVMetrics.buildbin-libdir && mkdir CNVMetrics.buildbin-libdir && D:\biocbuild\bbs-3.15-bioc\R\bin\R.exe CMD INSTALL --build --library=CNVMetrics.buildbin-libdir CNVMetrics_0.99.3.tar.gz
###
##############################################################################
##############################################################################


* installing *source* package 'CNVMetrics' ...
** using staged installation
** R
** inst
** byte-compile and prepare package for lazy loading
** help
*** installing help indices
  converting help for package 'CNVMetrics'
    finding HTML links ... done
    CNVMetrics-package                      html  
    calculateJaccard                        html  
    calculateLog2ratioMetric                html  
    calculateOneLog2valueMetricT            html  
    calculateOneOverlapMetricT              html  
    calculateOverlapMetric                  html  
    calculateSorensen                       html  
    calculateSzymkiewicz                    html  
    calculateWeightedEuclideanDistanceFor2Samples
                                            html  
    createDisjoinSegmentsForTwoSamples      html  
    is.CNVMetric                            html  
    plotMetric                              html  
    plotOneMetric                           html  
    print.CNVMetric                         html  
    validateCalculateOverlapMetricParameters
                                            html  
    validatecalculateLog2ratioMetricParameters
                                            html  
*** copying figures
** building package indices
** installing vignettes
** testing if installed package can be loaded from temporary location
** testing if installed package can be loaded from final location
** testing if installed package keeps a record of temporary installation path
* MD5 sums
packaged installation of 'CNVMetrics' as CNVMetrics_0.99.3.zip
* DONE (CNVMetrics)