Index of /checkResults/devel/bioc-LATEST/CNVMetrics/raw-results/palomino4

[ICO]NameLast modifiedSizeDescription

[DIR]Parent Directory  -  
[TXT]buildbin-out.txt07-Jul-2022 00:06 1.2K 
[   ]buildbin-summary.dcf07-Jul-2022 00:06 548  
[TXT]buildsrc-out.txt07-Jul-2022 00:06 853  
[   ]buildsrc-summary.dcf07-Jul-2022 00:06 462  
[TXT]checksrc-out.txt07-Jul-2022 00:06 3.0K 
[   ]checksrc-summary.dcf07-Jul-2022 00:06 460  
[TXT]install-out.txt07-Jul-2022 00:06 1.9K 
[   ]install-summary.dcf07-Jul-2022 00:06 649