Index of /checkResults/devel/bioc-LATEST/CNVMetrics/raw-results

[ICO]NameLast modifiedSizeDescription

[DIR]Parent Directory  -  
[   ]info.dcf28-Jun-2022 00:05 275  
[DIR]lconway/25-Jun-2022 00:07 -  
[DIR]nebbiolo2/28-Jun-2022 00:05 -  
[DIR]palomino4/25-Jun-2022 00:06 -