Back to Multiple platform build/check report for BioC 3.13
AB[C]DEFGHIJKLMNOPQRSTUVWXYZ

BUILD report for CNORode on tokay2

This page was generated on 2021-01-25 12:35:29 -0500 (Mon, 25 Jan 2021).

TO THE DEVELOPERS/MAINTAINERS OF THE CNORode PACKAGE: Please make sure to use the following settings in order to reproduce any error or warning you see on this page.
Package 335/1938HostnameOS / ArchINSTALLBUILDCHECKBUILD BIN
CNORode 1.33.0
Enio Gjerga
Snapshot Date: 2021-01-24 14:40:26 -0500 (Sun, 24 Jan 2021)
URL: https://git.bioconductor.org/packages/CNORode
Branch: master
Last Commit: faf1cdf
Last Changed Date: 2020-10-27 10:47:36 -0500 (Tue, 27 Oct 2020)
malbec2 Linux (Ubuntu 20.04.1 LTS) / x86_64  OK  OK  WARNINGS UNNEEDED, same version exists in internal repository
tokay2 Windows Server 2012 R2 Standard / x64  OK [ OK ] WARNINGS  OK UNNEEDED, same version exists in internal repository
riesling1 Windows Server 2019 Standard / x64  OK  OK  WARNINGS  OK 
machv2 macOS 10.14.6 Mojave / x86_64  OK  OK  WARNINGS  OK UNNEEDED, same version exists in internal repository

Summary

Package: CNORode
Version: 1.33.0
Command: chmod a+r CNORode -R && C:\Users\biocbuild\bbs-3.13-bioc\R\bin\R.exe CMD build --keep-empty-dirs --no-resave-data CNORode
StartedAt: 2021-01-24 21:14:26 -0500 (Sun, 24 Jan 2021)
EndedAt: 2021-01-24 21:15:59 -0500 (Sun, 24 Jan 2021)
EllapsedTime: 93.5 seconds
RetCode: 0
Status:  OK  
PackageFile: CNORode_1.33.0.tar.gz
PackageFileSize: 738.3 KiB

Command output

##############################################################################
##############################################################################
###
### Running command:
###
###   chmod a+r CNORode -R && C:\Users\biocbuild\bbs-3.13-bioc\R\bin\R.exe CMD build --keep-empty-dirs --no-resave-data CNORode
###
##############################################################################
##############################################################################


* checking for file 'CNORode/DESCRIPTION' ... OK
* preparing 'CNORode':
* checking DESCRIPTION meta-information ... OK
* cleaning src
* installing the package to build vignettes
* creating vignettes ... OK
* cleaning src
* checking for LF line-endings in source and make files and shell scripts
* checking for empty or unneeded directories
* looking to see if a 'data/datalist' file should be added
* building 'CNORode_1.33.0.tar.gz'