Index of /checkResults/devel/bioc-LATEST/CNEr/raw-results/palomino4

[ICO]NameLast modifiedSizeDescription

[DIR]Parent Directory  -  
[TXT]buildbin-out.txt25-Jun-2022 00:06 56K 
[   ]buildbin-summary.dcf25-Jun-2022 00:06 515  
[TXT]buildsrc-out.txt25-Jun-2022 00:06 1.3K 
[   ]buildsrc-summary.dcf25-Jun-2022 00:06 441  
[TXT]checksrc-out.txt25-Jun-2022 00:06 8.0K 
[   ]checksrc-summary.dcf25-Jun-2022 00:06 444  
[TXT]install-out.txt25-Jun-2022 00:06 56K 
[   ]install-summary.dcf25-Jun-2022 00:06 601