Index of /checkResults/devel/bioc-LATEST/CNEr/raw-results/nebbiolo2

[ICO]NameLast modifiedSizeDescription

[DIR]Parent Directory  -  
[TXT]buildsrc-out.txt02-Jul-2022 00:04 1.3K 
[   ]buildsrc-summary.dcf02-Jul-2022 00:04 409  
[TXT]checksrc-out.txt02-Jul-2022 00:04 4.8K 
[   ]checksrc-summary.dcf02-Jul-2022 00:04 412  
[TXT]install-out.txt02-Jul-2022 00:04 16K 
[   ]install-summary.dcf02-Jul-2022 00:04 253