Index of /checkResults/devel/bioc-LATEST/CNEr/raw-results/lconway

[ICO]NameLast modifiedSizeDescription

[DIR]Parent Directory  -  
[TXT]buildbin-out.txt25-Jun-2022 00:07 28K 
[   ]buildbin-summary.dcf25-Jun-2022 00:07 512  
[TXT]buildsrc-out.txt25-Jun-2022 00:07 1.4K 
[   ]buildsrc-summary.dcf25-Jun-2022 00:07 419  
[TXT]checksrc-out.txt25-Jun-2022 00:07 6.9K 
[   ]checksrc-summary.dcf25-Jun-2022 00:07 438  
[TXT]install-out.txt25-Jun-2022 00:07 27K 
[   ]install-summary.dcf25-Jun-2022 00:07 263