Back to Multiple platform build/check report for BioC 3.14
AB[C]DEFGHIJKLMNOPQRSTUVWXYZ

This page was generated on 2021-10-21 12:04:40 -0400 (Thu, 21 Oct 2021).

CHECK results for CGHregions on riesling1

To the developers/maintainers of the CGHregions package:
- Please allow up to 24 hours (and sometimes 48 hours) for your latest push to git@git.bioconductor.org:packages/CGHregions.git to
reflect on this report. See How and When does the builder pull? When will my changes propagate? here for more information.
- Make sure to use the following settings in order to reproduce any error or warning you see on this page.

raw results

Package 287/2075HostnameOS / ArchINSTALLBUILDCHECKBUILD BIN
CGHregions 1.51.0  (landing page)
Sjoerd Vosse
Snapshot Date: 2021-10-20 14:50:05 -0400 (Wed, 20 Oct 2021)
git_url: https://git.bioconductor.org/packages/CGHregions
git_branch: master
git_last_commit: 74a9831
git_last_commit_date: 2021-05-19 11:41:00 -0400 (Wed, 19 May 2021)
nebbiolo2Linux (Ubuntu 20.04.2 LTS) / x86_64  OK    OK    OK  UNNEEDED, same version is already published
riesling1Windows Server 2019 Standard / x64  OK    OK    OK    OK  UNNEEDED, same version is already published
merida1macOS 10.14.6 Mojave / x86_64  OK    OK    OK    OK  UNNEEDED, same version is already published

Summary

Package: CGHregions
Version: 1.51.0
Command: D:\biocbuild\bbs-3.14-bioc\R\bin\R.exe CMD check --force-multiarch --install=check:CGHregions.install-out.txt --library=D:\biocbuild\bbs-3.14-bioc\R\library --no-vignettes --timings CGHregions_1.51.0.tar.gz
StartedAt: 2021-10-21 00:51:25 -0400 (Thu, 21 Oct 2021)
EndedAt: 2021-10-21 00:55:25 -0400 (Thu, 21 Oct 2021)
EllapsedTime: 239.4 seconds
RetCode: 0
Status:   OK  
CheckDir: CGHregions.Rcheck
Warnings: 0

Command output

##############################################################################
##############################################################################
###
### Running command:
###
###   D:\biocbuild\bbs-3.14-bioc\R\bin\R.exe CMD check --force-multiarch --install=check:CGHregions.install-out.txt --library=D:\biocbuild\bbs-3.14-bioc\R\library --no-vignettes --timings CGHregions_1.51.0.tar.gz
###
##############################################################################
##############################################################################


* using log directory 'D:/biocbuild/bbs-3.14-bioc/meat/CGHregions.Rcheck'
* using R version 4.1.1 (2021-08-10)
* using platform: x86_64-w64-mingw32 (64-bit)
* using session charset: ISO8859-1
* using option '--no-vignettes'
* checking for file 'CGHregions/DESCRIPTION' ... OK
* checking extension type ... Package
* this is package 'CGHregions' version '1.51.0'
* checking package namespace information ... OK
* checking package dependencies ... OK
* checking if this is a source package ... OK
* checking if there is a namespace ... OK
* checking for hidden files and directories ... OK
* checking for portable file names ... OK
* checking whether package 'CGHregions' can be installed ... OK
* checking installed package size ... OK
* checking package directory ... OK
* checking 'build' directory ... OK
* checking DESCRIPTION meta-information ... NOTE
Malformed Title field: should not end in a period.
Malformed Description field: should contain one or more complete sentences.
Non-standard license specification:
  GPL (http://www.gnu.org/copyleft/gpl.html)
Standardizable: FALSE
* checking top-level files ... OK
* checking for left-over files ... OK
* checking index information ... OK
* checking package subdirectories ... OK
* checking R files for non-ASCII characters ... OK
* checking R files for syntax errors ... OK
* loading checks for arch 'i386'
** checking whether the package can be loaded ... OK
** checking whether the package can be loaded with stated dependencies ... OK
** checking whether the package can be unloaded cleanly ... OK
** checking whether the namespace can be loaded with stated dependencies ... OK
** checking whether the namespace can be unloaded cleanly ... OK
* loading checks for arch 'x64'
** checking whether the package can be loaded ... OK
** checking whether the package can be loaded with stated dependencies ... OK
** checking whether the package can be unloaded cleanly ... OK
** checking whether the namespace can be loaded with stated dependencies ... OK
** checking whether the namespace can be unloaded cleanly ... OK
* checking dependencies in R code ... NOTE
Packages in Depends field not imported from:
  'Biobase' 'methods'
  These packages need to be imported from (in the NAMESPACE file)
  for when this namespace is loaded but not attached.
There are ::: calls to the package's namespace in its code. A package
  almost never needs to use ::: for its own objects:
  '.countlevels' '.deterreg' '.dist1' '.dist2mid' '.dm' '.findbp'
  '.findchr' '.gradients' '.jump' '.ntd' '.rightgrad' '.td' '.tdind'
  '.wh' '.whichsign2'
* checking S3 generic/method consistency ... OK
* checking replacement functions ... OK
* checking foreign function calls ... OK
* checking R code for possible problems ... NOTE
.rightgrad : <anonymous>: no visible global function definition for
  'dist'
CGHregions: no visible global function definition for 'sampleNames'
CGHregions: no visible global function definition for 'read.table'
CGHregions: no visible global function definition for 'new'
Undefined global functions or variables:
  dist new read.table sampleNames
Consider adding
  importFrom("methods", "new")
  importFrom("stats", "dist")
  importFrom("utils", "read.table")
to your NAMESPACE file (and ensure that your DESCRIPTION Imports field
contains 'methods').
* checking Rd files ... OK
* checking Rd metadata ... OK
* checking Rd cross-references ... OK
* checking for missing documentation entries ... OK
* checking for code/documentation mismatches ... OK
* checking Rd \usage sections ... OK
* checking Rd contents ... OK
* checking for unstated dependencies in examples ... OK
* checking files in 'vignettes' ... OK
* checking examples ...
** running examples for arch 'i386' ... OK
** running examples for arch 'x64' ... OK
* checking for unstated dependencies in vignettes ... OK
* checking package vignettes in 'inst/doc' ... OK
* checking running R code from vignettes ... SKIPPED
* checking re-building of vignette outputs ... SKIPPED
* checking PDF version of manual ... OK
* DONE

Status: 3 NOTEs
See
  'D:/biocbuild/bbs-3.14-bioc/meat/CGHregions.Rcheck/00check.log'
for details.



Installation output

CGHregions.Rcheck/00install.out

##############################################################################
##############################################################################
###
### Running command:
###
###   C:\cygwin\bin\curl.exe -O http://155.52.207.166/BBS/3.14/bioc/src/contrib/CGHregions_1.51.0.tar.gz && rm -rf CGHregions.buildbin-libdir && mkdir CGHregions.buildbin-libdir && D:\biocbuild\bbs-3.14-bioc\R\bin\R.exe CMD INSTALL --merge-multiarch --build --library=CGHregions.buildbin-libdir CGHregions_1.51.0.tar.gz && D:\biocbuild\bbs-3.14-bioc\R\bin\R.exe CMD INSTALL CGHregions_1.51.0.zip && rm CGHregions_1.51.0.tar.gz CGHregions_1.51.0.zip
###
##############################################################################
##############################################################################


  % Total    % Received % Xferd  Average Speed   Time    Time     Time  Current
                                 Dload  Upload   Total   Spent    Left  Speed

  0     0    0     0    0     0      0      0 --:--:-- --:--:-- --:--:--     0
100 11369  100 11369    0     0   137k      0 --:--:-- --:--:-- --:--:--  138k

install for i386

* installing *source* package 'CGHregions' ...
** using staged installation
** R
** byte-compile and prepare package for lazy loading
** help
*** installing help indices
  converting help for package 'CGHregions'
    finding HTML links ... done
    CGHregions-package                      html  
    CGHregions                              html  
** building package indices
** installing vignettes
** testing if installed package can be loaded from temporary location
** testing if installed package can be loaded from final location
** testing if installed package keeps a record of temporary installation path

install for x64

* installing *source* package 'CGHregions' ...
** testing if installed package can be loaded
* MD5 sums
packaged installation of 'CGHregions' as CGHregions_1.51.0.zip
* DONE (CGHregions)
* installing to library 'D:/biocbuild/bbs-3.14-bioc/R/library'
package 'CGHregions' successfully unpacked and MD5 sums checked

Tests output


Example timings

CGHregions.Rcheck/examples_i386/CGHregions-Ex.timings

nameusersystemelapsed
CGHregions0.720.020.73

CGHregions.Rcheck/examples_x64/CGHregions-Ex.timings

nameusersystemelapsed
CGHregions0.750.050.80