Back to Multiple platform build/check report for BioC 3.14
AB[C]DEFGHIJKLMNOPQRSTUVWXYZ

This page was generated on 2021-10-21 12:04:40 -0400 (Thu, 21 Oct 2021).

BUILD BIN results for CGHbase on riesling1

To the developers/maintainers of the CGHbase package:
- Please allow up to 24 hours (and sometimes 48 hours) for your latest push to git@git.bioconductor.org:packages/CGHbase.git to
reflect on this report. See How and When does the builder pull? When will my changes propagate? here for more information.
- Make sure to use the following settings in order to reproduce any error or warning you see on this page.

raw results

Package 283/2075HostnameOS / ArchINSTALLBUILDCHECKBUILD BIN
CGHbase 1.53.0  (landing page)
Mark van de Wiel
Snapshot Date: 2021-10-20 14:50:05 -0400 (Wed, 20 Oct 2021)
git_url: https://git.bioconductor.org/packages/CGHbase
git_branch: master
git_last_commit: a8d3c92
git_last_commit_date: 2021-05-19 11:40:57 -0400 (Wed, 19 May 2021)
nebbiolo2Linux (Ubuntu 20.04.2 LTS) / x86_64  OK    OK    OK  UNNEEDED, same version is already published
riesling1Windows Server 2019 Standard / x64  OK    OK    OK    OK  UNNEEDED, same version is already published
merida1macOS 10.14.6 Mojave / x86_64  OK    OK    OK    OK  UNNEEDED, same version is already published

Summary

Package: CGHbase
Version: 1.53.0
Command: rm -rf CGHbase.buildbin-libdir && mkdir CGHbase.buildbin-libdir && D:\biocbuild\bbs-3.14-bioc\R\bin\R.exe CMD INSTALL --merge-multiarch --build --library=CGHbase.buildbin-libdir CGHbase_1.53.0.tar.gz
StartedAt: 2021-10-21 05:31:04 -0400 (Thu, 21 Oct 2021)
EndedAt: 2021-10-21 05:35:23 -0400 (Thu, 21 Oct 2021)
EllapsedTime: 259.1 seconds
RetCode: 0
Status:   OK  
PackageFile: CGHbase_1.53.0.zip
PackageFileSize: 1.088 MiB

Command output

##############################################################################
##############################################################################
###
### Running command:
###
###   rm -rf CGHbase.buildbin-libdir && mkdir CGHbase.buildbin-libdir && D:\biocbuild\bbs-3.14-bioc\R\bin\R.exe CMD INSTALL --merge-multiarch --build --library=CGHbase.buildbin-libdir CGHbase_1.53.0.tar.gz
###
##############################################################################
##############################################################################



install for i386

* installing *source* package 'CGHbase' ...
** using staged installation
** R
** data
** byte-compile and prepare package for lazy loading
** help
*** installing help indices
  converting help for package 'CGHbase'
    finding HTML links ... done
    CGHbase-package                         html  
    Wilting                                 html  
    WiltingCalled                           html  
    WiltingNorm                             html  
    WiltingRaw                              html  
    WiltingRegions                          html  
    WiltingSeg                              html  
    avedist                                 html  
    chromosomes                             html  
    class.cghCall                           html  
    class.cghRaw                            html  
    class.cghRegions                        html  
    class.cghSeg                            html  
    copynumber                              html  
    frequencyPlot                           html  
    frequencyPlotCalls                      html  
    make_cghRaw                             html  
    plot                                    html  
    probloss                                html  
    regions                                 html  
    summaryPlot                             html  
** building package indices
** testing if installed package can be loaded from temporary location
** testing if installed package can be loaded from final location
** testing if installed package keeps a record of temporary installation path

install for x64

* installing *source* package 'CGHbase' ...
** testing if installed package can be loaded
* MD5 sums
packaged installation of 'CGHbase' as CGHbase_1.53.0.zip
* DONE (CGHbase)