Back to Multiple platform build/check report for BioC 3.15
AB[C]DEFGHIJKLMNOPQRSTUVWXYZ

This page was generated on 2022-01-15 11:07:14 -0500 (Sat, 15 Jan 2022).

HostnameOSArch (*)R versionInstalled pkgs
nebbiolo1Linux (Ubuntu 20.04.4 LTS)x86_64R Under development (unstable) (2022-01-05 r81451) -- "Unsuffered Consequences" 4160
riesling1Windows Server 2019 Standardx64R Under development (unstable) (2021-11-21 r81221) -- "Unsuffered Consequences" 4055
palomino3Windows Server 2022 Datacenterx64R Under development (unstable) (2021-12-21 r81400 ucrt) -- "Unsuffered Consequences" 3997
merida1macOS 10.14.6 Mojavex86_64R Under development (unstable) (2022-01-05 r81451) -- "Unsuffered Consequences" 4114
Click on any hostname to see more info about the system (e.g. compilers)      (*) as reported by 'uname -p', except on Windows and Mac OS X

INSTALL results for CGEN on riesling1


To the developers/maintainers of the CGEN package:
- Please allow up to 24 hours (and sometimes 48 hours) for your latest push to git@git.bioconductor.org:packages/CGEN.git to
reflect on this report. See How and When does the builder pull? When will my changes propagate? here for more information.
- Make sure to use the following settings in order to reproduce any error or warning you see on this page.

raw results

Package 282/2074HostnameOS / ArchINSTALLBUILDCHECKBUILD BIN
CGEN 3.31.0  (landing page)
Justin Lee
Snapshot Date: 2022-01-14 13:55:18 -0500 (Fri, 14 Jan 2022)
git_url: https://git.bioconductor.org/packages/CGEN
git_branch: master
git_last_commit: 72494d0
git_last_commit_date: 2021-10-26 13:08:59 -0500 (Tue, 26 Oct 2021)
nebbiolo1Linux (Ubuntu 20.04.4 LTS) / x86_64  OK    OK    OK  UNNEEDED, same version is already published
riesling1Windows Server 2019 Standard / x64  OK    OK    OK    OK  
palomino3Windows Server 2022 Datacenter / x64  ERROR    ERROR  skippedskipped
merida1macOS 10.14.6 Mojave / x86_64  OK    OK    OK    OK  UNNEEDED, same version is already published

Summary

Package: CGEN
Version: 3.31.0
Command: D:\biocbuild\bbs-3.15-bioc\R\bin\R.exe CMD INSTALL CGEN
StartedAt: 2022-01-14 15:32:12 -0500 (Fri, 14 Jan 2022)
EndedAt: 2022-01-14 15:33:17 -0500 (Fri, 14 Jan 2022)
EllapsedTime: 64.9 seconds
RetCode: 0
Status:   OK  

Command output

##############################################################################
##############################################################################
###
### Running command:
###
###   D:\biocbuild\bbs-3.15-bioc\R\bin\R.exe CMD INSTALL CGEN
###
##############################################################################
##############################################################################


* installing to library 'D:/biocbuild/bbs-3.15-bioc/R/library'
* installing *source* package 'CGEN' ...
** using staged installation
** libs
"C:/rtools40/mingw64/bin/"gcc  -I"D:/biocbuild/bbs-3.15-bioc/R/include" -DNDEBUG     -I"C:/extsoft/include"     -O2 -Wall  -std=gnu99 -mfpmath=sse -msse2 -mstackrealign -fno-reorder-blocks-and-partition  -c Additive.c -o Additive.o
Additive.c: In function 'compute_g':
Additive.c:233:19: warning: 'et22' may be used uninitialized in this function [-Wmaybe-uninitialized]
       x    = et12 + et22 - 1;
              ~~~~~^~~~~~
Additive.c:235:25: warning: 't22' may be used uninitialized in this function [-Wmaybe-uninitialized]
       *g22 = logx - t12 - t22;
              ~~~~~~~~~~~^~~~~
"C:/rtools40/mingw64/bin/"gcc  -I"D:/biocbuild/bbs-3.15-bioc/R/include" -DNDEBUG     -I"C:/extsoft/include"     -O2 -Wall  -std=gnu99 -mfpmath=sse -msse2 -mstackrealign -fno-reorder-blocks-and-partition  -c CML.c -o CML.o
"C:/rtools40/mingw64/bin/"gcc  -I"D:/biocbuild/bbs-3.15-bioc/R/include" -DNDEBUG     -I"C:/extsoft/include"     -O2 -Wall  -std=gnu99 -mfpmath=sse -msse2 -mstackrealign -fno-reorder-blocks-and-partition  -c ccl.c -o ccl.o
"C:/rtools40/mingw64/bin/"gfortran  -fno-optimize-sibling-calls    -O2  -mfpmath=sse -msse2 -mstackrealign -fno-reorder-blocks-and-partition  -c csclust.f -o csclust.o
"C:/rtools40/mingw64/bin/"gcc  -I"D:/biocbuild/bbs-3.15-bioc/R/include" -DNDEBUG     -I"C:/extsoft/include"     -O2 -Wall  -std=gnu99 -mfpmath=sse -msse2 -mstackrealign -fno-reorder-blocks-and-partition  -c fsclust.c -o fsclust.o
"C:/rtools40/mingw64/bin/"gcc  -I"D:/biocbuild/bbs-3.15-bioc/R/include" -DNDEBUG     -I"C:/extsoft/include"     -O2 -Wall  -std=gnu99 -mfpmath=sse -msse2 -mstackrealign -fno-reorder-blocks-and-partition  -c hcl.c -o hcl.o
"C:/rtools40/mingw64/bin/"gcc  -I"D:/biocbuild/bbs-3.15-bioc/R/include" -DNDEBUG     -I"C:/extsoft/include"     -O2 -Wall  -std=gnu99 -mfpmath=sse -msse2 -mstackrealign -fno-reorder-blocks-and-partition  -c pmatch.c -o pmatch.o
"C:/rtools40/mingw64/bin/"gcc  -I"D:/biocbuild/bbs-3.15-bioc/R/include" -DNDEBUG     -I"C:/extsoft/include"     -O2 -Wall  -std=gnu99 -mfpmath=sse -msse2 -mstackrealign -fno-reorder-blocks-and-partition  -c score.c -o score.o
C:/rtools40/mingw64/bin/gcc -shared -s -static-libgcc -o CGEN.dll tmp.def Additive.o CML.o ccl.o csclust.o fsclust.o hcl.o pmatch.o score.o -LC:/extsoft/lib/x64 -LC:/extsoft/lib -lgfortran -lm -lquadmath -LD:/biocbuild/bbs-3.15-bioc/R/bin/x64 -lR
installing to D:/biocbuild/bbs-3.15-bioc/R/library/00LOCK-CGEN/00new/CGEN/libs/x64
** R
** data
** inst
** byte-compile and prepare package for lazy loading
** help
*** installing help indices
  converting help for package 'CGEN'
    finding HTML links ... done
    CGEN                                    html  
    GxE.scan                                html  
    GxE.scan.combine                        html  
    GxE.scan.partition                      html  
    LocusMapData                            html  
    QQ.plot                                 html  
    Xdata                                   html  
    Xdata2                                  html  
    additive.test                           html  
    chromosome.plot                         html  
    getMatchedSets                          html  
    getSummary                              html  
    getWaldTest                             html  
    locusMap.list                           html  
    pheno.list                              html  
    printEffects                            html  
    snp.effects                             html  
    snp.effects.plot                        html  
    snp.list                                html  
    snp.logistic                            html  
    snp.matched                             html  
    snp.score                               html  
    subject.list                            html  
** building package indices
** installing vignettes
** testing if installed package can be loaded from temporary location
** testing if installed package can be loaded from final location
** testing if installed package keeps a record of temporary installation path
* DONE (CGEN)
Making 'packages.html' ...Warning in packageDescription(i, lib.loc = lib, fields = "Title", encoding = "UTF-8") :
  DESCRIPTION file of package 'Travel' is missing or broken
 done