Name | Last modified | Size | Description | |
---|---|---|---|---|
Parent Directory | - | |||
buildbin-out.txt | 12-Jun-2024 04:40 | 3.8K | ||
buildbin-summary.dcf | 12-Jun-2024 04:40 | 497 | ||
buildsrc-out.txt | 12-Jun-2024 04:40 | 916 | ||
buildsrc-summary.dcf | 12-Jun-2024 04:40 | 440 | ||
checksrc-out.txt | 12-Jun-2024 04:40 | 5.0K | ||
checksrc-summary.dcf | 12-Jun-2024 04:40 | 435 | ||
install-out.txt | 12-Jun-2024 04:40 | 3.7K | ||
install-summary.dcf | 12-Jun-2024 04:40 | 262 | ||