Name | Last modified | Size | Description | |
---|---|---|---|---|
Parent Directory | - | |||
install-summary.dcf | 28-Jul-2024 00:38 | 253 | ||
install-out.txt | 28-Jul-2024 00:38 | 6.0K | ||
checksrc-summary.dcf | 28-Jul-2024 00:38 | 408 | ||
checksrc-out.txt | 28-Jul-2024 00:38 | 4.7K | ||
buildsrc-summary.dcf | 28-Jul-2024 00:38 | 414 | ||
buildsrc-out.txt | 28-Jul-2024 00:38 | 911 | ||