Name | Last modified | Size | Description | |
---|---|---|---|---|
Parent Directory | - | |||
buildbin-summary.dcf | 28-Jul-2024 00:40 | 512 | ||
buildbin-out.txt | 28-Jul-2024 00:40 | 9.3K | ||
checksrc-out.txt | 28-Jul-2024 00:40 | 4.9K | ||
checksrc-summary.dcf | 28-Jul-2024 00:40 | 438 | ||
buildsrc-summary.dcf | 28-Jul-2024 00:40 | 418 | ||
buildsrc-out.txt | 28-Jul-2024 00:40 | 897 | ||
install-out.txt | 28-Jul-2024 00:40 | 6.6K | ||
install-summary.dcf | 28-Jul-2024 00:40 | 263 | ||