Name | Last modified | Size | Description | |
---|---|---|---|---|
Parent Directory | - | |||
buildbin-out.txt | 28-Jul-2024 00:42 | 19K | ||
buildbin-summary.dcf | 28-Jul-2024 00:42 | 511 | ||
buildsrc-out.txt | 28-Jul-2024 00:42 | 897 | ||
buildsrc-summary.dcf | 28-Jul-2024 00:42 | 418 | ||
checksrc-out.txt | 28-Jul-2024 00:42 | 12K | ||
checksrc-summary.dcf | 28-Jul-2024 00:42 | 437 | ||
install-out.txt | 28-Jul-2024 00:42 | 16K | ||
install-summary.dcf | 28-Jul-2024 00:42 | 262 | ||