Name | Last modified | Size | Description | |
---|---|---|---|---|
Parent Directory | - | |||
checksrc-out.txt | 28-Jul-2024 00:39 | 3.9K | ||
buildbin-out.txt | 28-Jul-2024 00:39 | 1.3K | ||
install-out.txt | 28-Jul-2024 00:39 | 1.2K | ||
buildsrc-out.txt | 28-Jul-2024 00:39 | 909 | ||
buildbin-summary.dcf | 28-Jul-2024 00:39 | 527 | ||
checksrc-summary.dcf | 28-Jul-2024 00:39 | 461 | ||
buildsrc-summary.dcf | 28-Jul-2024 00:39 | 460 | ||
install-summary.dcf | 28-Jul-2024 00:39 | 272 | ||