Name | Last modified | Size | Description | |
---|---|---|---|---|
Parent Directory | - | |||
install-summary.dcf | 27-Jul-2024 00:38 | 263 | ||
checksrc-summary.dcf | 27-Jul-2024 00:38 | 428 | ||
buildsrc-summary.dcf | 27-Jul-2024 00:38 | 429 | ||
buildsrc-out.txt | 27-Jul-2024 00:38 | 901 | ||
install-out.txt | 27-Jul-2024 00:38 | 1.2K | ||
checksrc-out.txt | 27-Jul-2024 00:38 | 3.8K | ||