Index of /checkResults/devel/bioc-LATEST/CBEA/raw-results/palomino4

[ICO]NameLast modifiedSizeDescription

[DIR]Parent Directory  -  
[   ]install-summary.dcf12-Jun-2024 04:40 261  
[   ]checksrc-summary.dcf12-Jun-2024 04:40 433  
[   ]buildsrc-summary.dcf12-Jun-2024 04:40 439  
[   ]buildbin-summary.dcf12-Jun-2024 04:40 495  
[TXT]buildsrc-out.txt12-Jun-2024 04:40 915  
[TXT]install-out.txt12-Jun-2024 04:40 1.8K 
[TXT]buildbin-out.txt12-Jun-2024 04:40 2.0K 
[TXT]checksrc-out.txt12-Jun-2024 04:40 4.5K