Name | Last modified | Size | Description | |
---|---|---|---|---|
Parent Directory | - | |||
buildbin-out.txt | 28-Jun-2024 00:38 | 4.1K | ||
buildbin-summary.dcf | 28-Jun-2024 00:38 | 509 | ||
buildsrc-out.txt | 28-Jun-2024 00:38 | 896 | ||
buildsrc-summary.dcf | 28-Jun-2024 00:38 | 416 | ||
checksrc-out.txt | 28-Jun-2024 00:38 | 3.9K | ||
checksrc-summary.dcf | 28-Jun-2024 00:38 | 429 | ||
install-out.txt | 28-Jun-2024 00:38 | 2.1K | ||
install-summary.dcf | 28-Jun-2024 00:38 | 262 | ||