Name | Last modified | Size | Description | |
---|---|---|---|---|
Parent Directory | - | |||
buildbin-out.txt | 18-Feb-2024 16:28 | 1.2K | ||
buildbin-summary.dcf | 18-Feb-2024 16:28 | 537 | ||
buildsrc-out.txt | 05-Mar-2024 01:38 | 1.3K | ||
buildsrc-summary.dcf | 05-Mar-2024 01:38 | 346 | ||
checksrc-out.txt | 18-Feb-2024 16:28 | 4.8K | ||
checksrc-summary.dcf | 18-Feb-2024 16:28 | 449 | ||
install-out.txt | 05-Mar-2024 01:38 | 1.0K | ||
install-summary.dcf | 05-Mar-2024 01:38 | 271 | ||