Name | Last modified | Size | Description | |
---|---|---|---|---|
Parent Directory | - | |||
buildbin-out.txt | 12-Jun-2024 04:41 | 1.2K | ||
buildbin-summary.dcf | 12-Jun-2024 04:41 | 536 | ||
buildsrc-out.txt | 12-Jun-2024 04:41 | 860 | ||
buildsrc-summary.dcf | 12-Jun-2024 04:41 | 430 | ||
checksrc-out.txt | 12-Jun-2024 04:41 | 6.7K | ||
checksrc-summary.dcf | 12-Jun-2024 04:41 | 447 | ||
install-out.txt | 12-Jun-2024 04:41 | 1.0K | ||
install-summary.dcf | 12-Jun-2024 04:41 | 271 | ||