Name | Last modified | Size | Description | |
---|---|---|---|---|
Parent Directory | - | |||
buildsrc-out.txt | 09-Jul-2024 00:44 | 838 | ||
buildsrc-summary.dcf | 09-Jul-2024 00:44 | 408 | ||
checksrc-out.txt | 09-Jul-2024 00:44 | 6.7K | ||
checksrc-summary.dcf | 09-Jul-2024 00:44 | 408 | ||
install-out.txt | 07-Jul-2024 00:44 | 957 | ||
install-summary.dcf | 07-Jul-2024 00:44 | 248 | ||