Back to Multiple platform build/check report for BioC 3.15
AB[C]DEFGHIJKLMNOPQRSTUVWXYZ

This page was generated on 2022-01-15 11:07:10 -0500 (Sat, 15 Jan 2022).

HostnameOSArch (*)R versionInstalled pkgs
nebbiolo1Linux (Ubuntu 20.04.4 LTS)x86_64R Under development (unstable) (2022-01-05 r81451) -- "Unsuffered Consequences" 4160
riesling1Windows Server 2019 Standardx64R Under development (unstable) (2021-11-21 r81221) -- "Unsuffered Consequences" 4055
palomino3Windows Server 2022 Datacenterx64R Under development (unstable) (2021-12-21 r81400 ucrt) -- "Unsuffered Consequences" 3997
merida1macOS 10.14.6 Mojavex86_64R Under development (unstable) (2022-01-05 r81451) -- "Unsuffered Consequences" 4114
Click on any hostname to see more info about the system (e.g. compilers)      (*) as reported by 'uname -p', except on Windows and Mac OS X

BUILD results for CAGEr on riesling1


To the developers/maintainers of the CAGEr package:
- Please allow up to 24 hours (and sometimes 48 hours) for your latest push to git@git.bioconductor.org:packages/CAGEr.git to
reflect on this report. See How and When does the builder pull? When will my changes propagate? here for more information.
- Make sure to use the following settings in order to reproduce any error or warning you see on this page.

raw results

Package 234/2074HostnameOS / ArchINSTALLBUILDCHECKBUILD BIN
CAGEr 2.1.3  (landing page)
Charles Plessy
Snapshot Date: 2022-01-14 13:55:18 -0500 (Fri, 14 Jan 2022)
git_url: https://git.bioconductor.org/packages/CAGEr
git_branch: master
git_last_commit: 5a58b26
git_last_commit_date: 2021-11-17 15:27:06 -0500 (Wed, 17 Nov 2021)
nebbiolo1Linux (Ubuntu 20.04.4 LTS) / x86_64  OK    OK    OK  UNNEEDED, same version is already published
riesling1Windows Server 2019 Standard / x64  OK    OK    OK    OK  
palomino3Windows Server 2022 Datacenter / x64  OK    OK    OK    OK  NO, package depends on 'MultiAssayExperiment' which is not available
merida1macOS 10.14.6 Mojave / x86_64  OK    OK    OK    OK  UNNEEDED, same version is already published

Summary

Package: CAGEr
Version: 2.1.3
Command: chmod a+r CAGEr -R && D:\biocbuild\bbs-3.15-bioc\R\bin\R.exe CMD build --keep-empty-dirs --no-resave-data CAGEr
StartedAt: 2022-01-14 16:28:27 -0500 (Fri, 14 Jan 2022)
EndedAt: 2022-01-14 16:31:21 -0500 (Fri, 14 Jan 2022)
EllapsedTime: 173.8 seconds
RetCode: 0
Status:   OK  
PackageFile: CAGEr_2.1.3.tar.gz
PackageFileSize: 1.521 MiB

Command output

##############################################################################
##############################################################################
###
### Running command:
###
###   chmod a+r CAGEr -R && D:\biocbuild\bbs-3.15-bioc\R\bin\R.exe CMD build --keep-empty-dirs --no-resave-data CAGEr
###
##############################################################################
##############################################################################


* checking for file 'CAGEr/DESCRIPTION' ... OK
* preparing 'CAGEr':
* checking DESCRIPTION meta-information ... OK
* installing the package to build vignettes
* creating vignettes ... OK
* checking for LF line-endings in source and make files and shell scripts
* checking for empty or unneeded directories
* building 'CAGEr_2.1.3.tar.gz'