Index of /checkResults/devel/bioc-LATEST/CAGEr/raw-results/nebbiolo2

[ICO]NameLast modifiedSizeDescription

[DIR]Parent Directory  -  
[TXT]buildsrc-out.txt07-Aug-2022 00:04 797  
[   ]buildsrc-summary.dcf07-Aug-2022 00:04 410  
[TXT]checksrc-out.txt07-Aug-2022 00:04 3.4K 
[   ]checksrc-summary.dcf07-Aug-2022 00:04 414  
[TXT]install-out.txt07-Aug-2022 00:04 1.0K 
[   ]install-summary.dcf07-Aug-2022 00:04 254