Index of /checkResults/devel/bioc-LATEST/CAFE/raw-results

[ICO]NameLast modifiedSizeDescription

[DIR]Parent Directory  -  
[   ]info.dcf03-Jun-2023 00:06 264  
[DIR]lconway/03-Jun-2023 00:06 -  
[DIR]nebbiolo2/03-Jun-2023 00:05 -  
[DIR]palomino4/03-Jun-2023 00:05 -