Back to Multiple platform build/check report for BioC 3.15
A[B]CDEFGHIJKLMNOPQRSTUVWXYZ

This page was generated on 2022-01-19 11:07:17 -0500 (Wed, 19 Jan 2022).

HostnameOSArch (*)R versionInstalled pkgs
nebbiolo1Linux (Ubuntu 20.04.4 LTS)x86_64R Under development (unstable) (2022-01-05 r81451) -- "Unsuffered Consequences" 4161
riesling1Windows Server 2019 Standardx64R Under development (unstable) (2021-11-21 r81221) -- "Unsuffered Consequences" 4056
palomino3Windows Server 2022 Datacenterx64R Under development (unstable) (2021-12-21 r81400 ucrt) -- "Unsuffered Consequences" 3998
merida1macOS 10.14.6 Mojavex86_64R Under development (unstable) (2022-01-05 r81451) -- "Unsuffered Consequences" 4115
Click on any hostname to see more info about the system (e.g. compilers)      (*) as reported by 'uname -p', except on Windows and Mac OS X

CHECK results for BubbleTree on riesling1


To the developers/maintainers of the BubbleTree package:
- Please allow up to 24 hours (and sometimes 48 hours) for your latest push to git@git.bioconductor.org:packages/BubbleTree.git to
reflect on this report. See How and When does the builder pull? When will my changes propagate? here for more information.
- Make sure to use the following settings in order to reproduce any error or warning you see on this page.

raw results

Package 219/2074HostnameOS / ArchINSTALLBUILDCHECKBUILD BIN
BubbleTree 2.25.0  (landing page)
Todd Creasy , Wei Zhu
Snapshot Date: 2022-01-18 13:55:18 -0500 (Tue, 18 Jan 2022)
git_url: https://git.bioconductor.org/packages/BubbleTree
git_branch: master
git_last_commit: 26a7104
git_last_commit_date: 2021-10-26 12:18:49 -0500 (Tue, 26 Oct 2021)
nebbiolo1Linux (Ubuntu 20.04.4 LTS) / x86_64  OK    OK    OK  UNNEEDED, same version is already published
riesling1Windows Server 2019 Standard / x64  OK    OK    OK    OK  
palomino3Windows Server 2022 Datacenter / x64  OK    OK    OK    OK  NO, package depends on 'IRanges' which is not available
merida1macOS 10.14.6 Mojave / x86_64  OK    OK    OK    OK  UNNEEDED, same version is already published

Summary

Package: BubbleTree
Version: 2.25.0
Command: D:\biocbuild\bbs-3.15-bioc\R\bin\R.exe CMD check --no-multiarch --install=check:BubbleTree.install-out.txt --library=D:\biocbuild\bbs-3.15-bioc\R\library --no-vignettes --timings BubbleTree_2.25.0.tar.gz
StartedAt: 2022-01-18 18:22:14 -0500 (Tue, 18 Jan 2022)
EndedAt: 2022-01-18 18:27:15 -0500 (Tue, 18 Jan 2022)
EllapsedTime: 301.2 seconds
RetCode: 0
Status:   OK  
CheckDir: BubbleTree.Rcheck
Warnings: 0

Command output

##############################################################################
##############################################################################
###
### Running command:
###
###   D:\biocbuild\bbs-3.15-bioc\R\bin\R.exe CMD check --no-multiarch --install=check:BubbleTree.install-out.txt --library=D:\biocbuild\bbs-3.15-bioc\R\library --no-vignettes --timings BubbleTree_2.25.0.tar.gz
###
##############################################################################
##############################################################################


* using log directory 'D:/biocbuild/bbs-3.15-bioc/meat/BubbleTree.Rcheck'
* using R Under development (unstable) (2021-11-21 r81221)
* using platform: x86_64-w64-mingw32 (64-bit)
* using session charset: ISO8859-1
* using option '--no-vignettes'
* checking for file 'BubbleTree/DESCRIPTION' ... OK
* checking extension type ... Package
* this is package 'BubbleTree' version '2.25.0'
* checking package namespace information ... OK
* checking package dependencies ... OK
* checking if this is a source package ... OK
* checking if there is a namespace ... OK
* checking for hidden files and directories ... OK
* checking for portable file names ... OK
* checking whether package 'BubbleTree' can be installed ... OK
* checking installed package size ... NOTE
  installed size is 24.0Mb
  sub-directories of 1Mb or more:
    data  23.4Mb
* checking package directory ... OK
* checking 'build' directory ... OK
* checking DESCRIPTION meta-information ...It is recommended to use 'given' instead of 'middle'.
 OK
* checking top-level files ... OK
* checking for left-over files ... OK
* checking index information ... OK
* checking package subdirectories ... OK
* checking R files for non-ASCII characters ... OK
* checking R files for syntax errors ... OK
* checking whether the package can be loaded ... OK
* checking whether the package can be loaded with stated dependencies ... OK
* checking whether the package can be unloaded cleanly ... OK
* checking whether the namespace can be loaded with stated dependencies ... OK
* checking whether the namespace can be unloaded cleanly ... OK
* checking dependencies in R code ... OK
* checking S3 generic/method consistency ... OK
* checking replacement functions ... OK
* checking foreign function calls ... OK
* checking R code for possible problems ... NOTE
annoByOverlap,Annotate: no visible binding for global variable
  'queryHits'
Undefined global functions or variables:
  queryHits
* checking Rd files ... OK
* checking Rd metadata ... OK
* checking Rd cross-references ... OK
* checking for missing documentation entries ... OK
* checking for code/documentation mismatches ... OK
* checking Rd \usage sections ... OK
* checking Rd contents ... OK
* checking for unstated dependencies in examples ... OK
* checking contents of 'data' directory ... OK
* checking data for non-ASCII characters ... OK
* checking data for ASCII and uncompressed saves ... OK
* checking files in 'vignettes' ... OK
* checking examples ... OK
Examples with CPU (user + system) or elapsed time > 5s
                 user system elapsed
makeRBD         12.47   0.05   12.52
heteroLociTrack  5.61   0.41    6.02
* checking for unstated dependencies in vignettes ... OK
* checking package vignettes in 'inst/doc' ... OK
* checking running R code from vignettes ... SKIPPED
* checking re-building of vignette outputs ... SKIPPED
* checking PDF version of manual ... OK
* DONE

Status: 2 NOTEs
See
  'D:/biocbuild/bbs-3.15-bioc/meat/BubbleTree.Rcheck/00check.log'
for details.



Installation output

BubbleTree.Rcheck/00install.out

##############################################################################
##############################################################################
###
### Running command:
###
###   D:\biocbuild\bbs-3.15-bioc\R\bin\R.exe CMD INSTALL BubbleTree
###
##############################################################################
##############################################################################


* installing to library 'D:/biocbuild/bbs-3.15-bioc/R/library'
* installing *source* package 'BubbleTree' ...
** using staged installation
It is recommended to use 'given' instead of 'middle'.
** R
** data
** inst
** byte-compile and prepare package for lazy loading
** help
*** installing help indices
  converting help for package 'BubbleTree'
    finding HTML links ... done
    Annotate                                html  
    BTreePlotter                            html  
    BTreePredictor                          html  
    RBD                                     html  
    RscoreTrack                             html  
    TrackPlotter                            html  
    all.somatic.lst                         html  
    allCNV.lst                              html  
    allCall.lst                             html  
    allHetero.lst                           html  
    allRBD.lst                              html  
    annoByGenesAndCyto                      html  
    bafTrack                                html  
    btcompare                               html  
    btpredict                               html  
    cancer.genes.minus2                     html  
    centromere.dat                          html  
    cnv.gr                                  html  
    cyto.gr                                 html  
    drawBTree                               html  
    drawBubbles                             html  
    drawFeatures                            html  
    gene.uni.clean.gr                       html  
    getTracks                               html  
    heteroLociTrack                         html  
    hg19.seqinfo                            html  
    info                                    html  
    loadRBD                                 html  
    makeRBD                                 html  
    mergeSnpCnv                             html  
    saveXLS                                 html  
    snp.gr                                  html  
    trackBTree                              html  
    vol.genes                               html  
    xyTrack                                 html  
** building package indices
** installing vignettes
** testing if installed package can be loaded from temporary location
** testing if installed package can be loaded from final location
** testing if installed package keeps a record of temporary installation path
* DONE (BubbleTree)
Making 'packages.html' ... done

Tests output


Example timings

BubbleTree.Rcheck/BubbleTree-Ex.timings

nameusersystemelapsed
Annotate000
BTreePlotter0.050.030.07
BTreePredictor000
RBD000
RscoreTrack0.450.060.51
TrackPlotter000
annoByGenesAndCyto0.470.030.50
bafTrack0.220.030.25
btcompare000
btpredict2.230.352.58
drawBTree0.220.030.25
drawBubbles0.230.000.23
drawFeatures1.060.031.09
getTracks0.630.030.66
heteroLociTrack5.610.416.02
info3.170.013.18
loadRBD0.030.000.03
makeRBD12.47 0.0512.52
saveXLS0.130.001.02
trackBTree0.280.000.28
xyTrack0.230.020.25