Back to Multiple platform build/check report for BioC 3.15
A[B]CDEFGHIJKLMNOPQRSTUVWXYZ

This page was generated on 2022-01-25 11:06:50 -0500 (Tue, 25 Jan 2022).

HostnameOSArch (*)R versionInstalled pkgs
nebbiolo1Linux (Ubuntu 20.04.4 LTS)x86_64R Under development (unstable) (2022-01-05 r81451) -- "Unsuffered Consequences" 4164
riesling1Windows Server 2019 Standardx64R Under development (unstable) (2021-11-21 r81221) -- "Unsuffered Consequences" 4059
palomino3Windows Server 2022 Datacenterx64R Under development (unstable) (2021-12-21 r81400 ucrt) -- "Unsuffered Consequences" 4001
merida1macOS 10.14.6 Mojavex86_64R Under development (unstable) (2022-01-05 r81451) -- "Unsuffered Consequences" 4118
Click on any hostname to see more info about the system (e.g. compilers)      (*) as reported by 'uname -p', except on Windows and Mac OS X

BUILD BIN results for BubbleTree on riesling1


To the developers/maintainers of the BubbleTree package:
- Please allow up to 24 hours (and sometimes 48 hours) for your latest push to git@git.bioconductor.org:packages/BubbleTree.git to
reflect on this report. See How and When does the builder pull? When will my changes propagate? here for more information.
- Make sure to use the following settings in order to reproduce any error or warning you see on this page.

raw results

Package 219/2075HostnameOS / ArchINSTALLBUILDCHECKBUILD BIN
BubbleTree 2.25.0  (landing page)
Todd Creasy , Wei Zhu
Snapshot Date: 2022-01-24 13:55:18 -0500 (Mon, 24 Jan 2022)
git_url: https://git.bioconductor.org/packages/BubbleTree
git_branch: master
git_last_commit: 26a7104
git_last_commit_date: 2021-10-26 12:18:49 -0500 (Tue, 26 Oct 2021)
nebbiolo1Linux (Ubuntu 20.04.4 LTS) / x86_64  OK    OK    OK  UNNEEDED, same version is already published
riesling1Windows Server 2019 Standard / x64  OK    OK    OK    OK  
palomino3Windows Server 2022 Datacenter / x64  OK    OK    OK    OK  NO, package depends on 'IRanges' which is not available
merida1macOS 10.14.6 Mojave / x86_64  OK    OK    OK    OK  UNNEEDED, same version is already published

Summary

Package: BubbleTree
Version: 2.25.0
Command: rm -rf BubbleTree.buildbin-libdir && mkdir BubbleTree.buildbin-libdir && D:\biocbuild\bbs-3.15-bioc\R\bin\R.exe CMD INSTALL --build --library=BubbleTree.buildbin-libdir BubbleTree_2.25.0.tar.gz
StartedAt: 2022-01-24 20:43:00 -0500 (Mon, 24 Jan 2022)
EndedAt: 2022-01-24 20:44:19 -0500 (Mon, 24 Jan 2022)
EllapsedTime: 78.9 seconds
RetCode: 0
Status:   OK  
PackageFile: BubbleTree_2.25.0.zip
PackageFileSize: 26.03 MiB

Command output

##############################################################################
##############################################################################
###
### Running command:
###
###   rm -rf BubbleTree.buildbin-libdir && mkdir BubbleTree.buildbin-libdir && D:\biocbuild\bbs-3.15-bioc\R\bin\R.exe CMD INSTALL --build --library=BubbleTree.buildbin-libdir BubbleTree_2.25.0.tar.gz
###
##############################################################################
##############################################################################


* installing *source* package 'BubbleTree' ...
** using staged installation
It is recommended to use 'given' instead of 'middle'.
** R
** data
** inst
** byte-compile and prepare package for lazy loading
** help
*** installing help indices
  converting help for package 'BubbleTree'
    finding HTML links ... done
    Annotate                                html  
    BTreePlotter                            html  
    BTreePredictor                          html  
    RBD                                     html  
    RscoreTrack                             html  
    TrackPlotter                            html  
    all.somatic.lst                         html  
    allCNV.lst                              html  
    allCall.lst                             html  
    allHetero.lst                           html  
    allRBD.lst                              html  
    annoByGenesAndCyto                      html  
    bafTrack                                html  
    btcompare                               html  
    btpredict                               html  
    cancer.genes.minus2                     html  
    centromere.dat                          html  
    cnv.gr                                  html  
    cyto.gr                                 html  
    drawBTree                               html  
    drawBubbles                             html  
    drawFeatures                            html  
    gene.uni.clean.gr                       html  
    getTracks                               html  
    heteroLociTrack                         html  
    hg19.seqinfo                            html  
    info                                    html  
    loadRBD                                 html  
    makeRBD                                 html  
    mergeSnpCnv                             html  
    saveXLS                                 html  
    snp.gr                                  html  
    trackBTree                              html  
    vol.genes                               html  
    xyTrack                                 html  
** building package indices
** installing vignettes
** testing if installed package can be loaded from temporary location
** testing if installed package can be loaded from final location
** testing if installed package keeps a record of temporary installation path
* MD5 sums
packaged installation of 'BubbleTree' as BubbleTree_2.25.0.zip
* DONE (BubbleTree)