Back to Multiple platform build/check report for BioC 3.15
A[B]CDEFGHIJKLMNOPQRSTUVWXYZ

This page was generated on 2022-01-21 11:07:06 -0500 (Fri, 21 Jan 2022).

HostnameOSArch (*)R versionInstalled pkgs
nebbiolo1Linux (Ubuntu 20.04.4 LTS)x86_64R Under development (unstable) (2022-01-05 r81451) -- "Unsuffered Consequences" 4163
riesling1Windows Server 2019 Standardx64R Under development (unstable) (2021-11-21 r81221) -- "Unsuffered Consequences" 4058
palomino3Windows Server 2022 Datacenterx64R Under development (unstable) (2021-12-21 r81400 ucrt) -- "Unsuffered Consequences" 4000
merida1macOS 10.14.6 Mojavex86_64R Under development (unstable) (2022-01-05 r81451) -- "Unsuffered Consequences" 4117
Click on any hostname to see more info about the system (e.g. compilers)      (*) as reported by 'uname -p', except on Windows and Mac OS X

BUILD BIN results for BloodGen3Module on riesling1


To the developers/maintainers of the BloodGen3Module package:
- Please allow up to 24 hours (and sometimes 48 hours) for your latest push to git@git.bioconductor.org:packages/BloodGen3Module.git to
reflect on this report. See How and When does the builder pull? When will my changes propagate? here for more information.
- Make sure to use the following settings in order to reproduce any error or warning you see on this page.

raw results

Package 201/2075HostnameOS / ArchINSTALLBUILDCHECKBUILD BIN
BloodGen3Module 1.3.0  (landing page)
Darawan Rinchai
Snapshot Date: 2022-01-20 13:55:17 -0500 (Thu, 20 Jan 2022)
git_url: https://git.bioconductor.org/packages/BloodGen3Module
git_branch: master
git_last_commit: c517f5a
git_last_commit_date: 2021-10-26 13:10:03 -0500 (Tue, 26 Oct 2021)
nebbiolo1Linux (Ubuntu 20.04.4 LTS) / x86_64  OK    OK    WARNINGS  UNNEEDED, same version is already published
riesling1Windows Server 2019 Standard / x64  OK    OK    WARNINGS    OK  
palomino3Windows Server 2022 Datacenter / x64  OK    OK    WARNINGS    OK  NO, package depends on 'SummarizedExperiment' which is not available
merida1macOS 10.14.6 Mojave / x86_64  OK    OK    ERROR    OK  

Summary

Package: BloodGen3Module
Version: 1.3.0
Command: rm -rf BloodGen3Module.buildbin-libdir && mkdir BloodGen3Module.buildbin-libdir && D:\biocbuild\bbs-3.15-bioc\R\bin\R.exe CMD INSTALL --build --library=BloodGen3Module.buildbin-libdir BloodGen3Module_1.3.0.tar.gz
StartedAt: 2022-01-20 20:43:00 -0500 (Thu, 20 Jan 2022)
EndedAt: 2022-01-20 20:44:09 -0500 (Thu, 20 Jan 2022)
EllapsedTime: 69.2 seconds
RetCode: 0
Status:   OK  
PackageFile: BloodGen3Module_1.3.0.zip
PackageFileSize: 259.1 KiB

Command output

##############################################################################
##############################################################################
###
### Running command:
###
###   rm -rf BloodGen3Module.buildbin-libdir && mkdir BloodGen3Module.buildbin-libdir && D:\biocbuild\bbs-3.15-bioc\R\bin\R.exe CMD INSTALL --build --library=BloodGen3Module.buildbin-libdir BloodGen3Module_1.3.0.tar.gz
###
##############################################################################
##############################################################################


* installing *source* package 'BloodGen3Module' ...
** using staged installation
** R
** inst
** byte-compile and prepare package for lazy loading
Warning: replacing previous import 'SummarizedExperiment::rowRanges' by 'matrixStats::rowRanges' when loading 'BloodGen3Module'
Warning: replacing previous import 'SummarizedExperiment::start' by 'stats::start' when loading 'BloodGen3Module'
Warning: replacing previous import 'SummarizedExperiment::end' by 'stats::end' when loading 'BloodGen3Module'
Warning: replacing previous import 'matrixStats::rowRanges' by 'SummarizedExperiment::rowRanges' when loading 'BloodGen3Module'
** help
*** installing help indices
  converting help for package 'BloodGen3Module'
    finding HTML links ... done
    Gen3_ann                                html  
    Groupcomparison                         html  
    Groupcomparisonlimma                    html  
    Individualcomparison                    html  
    Module_listGen3                         html  
    color                                   html  
    fingerprintplot                         html  
    fold_change                             html  
    gridplot                                html  
** building package indices
** installing vignettes
** testing if installed package can be loaded from temporary location
Warning: replacing previous import 'SummarizedExperiment::rowRanges' by 'matrixStats::rowRanges' when loading 'BloodGen3Module'
Warning: replacing previous import 'SummarizedExperiment::start' by 'stats::start' when loading 'BloodGen3Module'
Warning: replacing previous import 'SummarizedExperiment::end' by 'stats::end' when loading 'BloodGen3Module'
Warning: replacing previous import 'matrixStats::rowRanges' by 'SummarizedExperiment::rowRanges' when loading 'BloodGen3Module'
** testing if installed package can be loaded from final location
Warning: replacing previous import 'SummarizedExperiment::rowRanges' by 'matrixStats::rowRanges' when loading 'BloodGen3Module'
Warning: replacing previous import 'SummarizedExperiment::start' by 'stats::start' when loading 'BloodGen3Module'
Warning: replacing previous import 'SummarizedExperiment::end' by 'stats::end' when loading 'BloodGen3Module'
Warning: replacing previous import 'matrixStats::rowRanges' by 'SummarizedExperiment::rowRanges' when loading 'BloodGen3Module'
** testing if installed package keeps a record of temporary installation path
* MD5 sums
packaged installation of 'BloodGen3Module' as BloodGen3Module_1.3.0.zip
* DONE (BloodGen3Module)