Name | Last modified | Size | Description | |
---|---|---|---|---|
Parent Directory | - | |||
buildbin-out.txt | 17-Jul-2024 00:40 | 2.6K | ||
buildbin-summary.dcf | 17-Jul-2024 00:40 | 569 | ||
buildsrc-out.txt | 17-Jul-2024 00:40 | 945 | ||
buildsrc-summary.dcf | 17-Jul-2024 00:40 | 488 | ||
checksrc-out.txt | 17-Jul-2024 00:40 | 4.3K | ||
checksrc-summary.dcf | 17-Jul-2024 00:40 | 497 | ||
install-out.txt | 17-Jul-2024 00:40 | 2.4K | ||
install-summary.dcf | 17-Jul-2024 00:40 | 290 | ||