Name | Last modified | Size | Description | |
---|---|---|---|---|
Parent Directory | - | |||
install-summary.dcf | 12-Jun-2024 04:40 | 284 | ||
install-out.txt | 12-Jun-2024 04:40 | 2.4K | ||
checksrc-summary.dcf | 12-Jun-2024 04:40 | 485 | ||
checksrc-out.txt | 12-Jun-2024 04:40 | 4.3K | ||
buildsrc-summary.dcf | 12-Jun-2024 04:40 | 483 | ||
buildsrc-out.txt | 12-Jun-2024 04:40 | 939 | ||
buildbin-summary.dcf | 12-Jun-2024 04:40 | 562 | ||
buildbin-out.txt | 12-Jun-2024 04:40 | 2.5K | ||