Index of /checkResults/devel/bioc-LATEST/BloodGen3Module/raw-results/palomino3

[ICO]NameLast modifiedSizeDescription

[DIR]Parent Directory  -  
[TXT]buildbin-out.txt29-Mar-2024 00:37 2.5K 
[   ]buildbin-summary.dcf29-Mar-2024 00:37 563  
[TXT]buildsrc-out.txt29-Mar-2024 00:37 939  
[   ]buildsrc-summary.dcf29-Mar-2024 00:37 483  
[TXT]checksrc-out.txt29-Mar-2024 00:37 4.3K 
[   ]checksrc-summary.dcf29-Mar-2024 00:37 485  
[TXT]install-out.txt29-Mar-2024 00:37 2.4K 
[   ]install-summary.dcf29-Mar-2024 00:37 284