Name | Last modified | Size | Description | |
---|---|---|---|---|
Parent Directory | - | |||
install-summary.dcf | 28-Jul-2024 00:38 | 275 | ||
install-out.txt | 28-Jul-2024 00:38 | 2.5K | ||
checksrc-summary.dcf | 28-Jul-2024 00:38 | 452 | ||
checksrc-out.txt | 28-Jul-2024 00:38 | 4.3K | ||
buildsrc-summary.dcf | 28-Jul-2024 00:38 | 447 | ||
buildsrc-out.txt | 28-Jul-2024 00:38 | 925 | ||